BEGIN:VCALENDAR
VERSION:2.0
PRODID:-//Muirden Senior College - ECPv4.6.1//NONSGML v1.0//EN
CALSCALE:GREGORIAN
METHOD:PUBLISH
X-WR-CALNAME:Muirden Senior College
X-ORIGINAL-URL:https://muirden.sa.edu.au
X-WR-CALDESC:Events for Muirden Senior College
BEGIN:VEVENT
DTSTART;TZID=UTC+10.5:20180129T090000
DTEND;TZID=UTC+10.5:20180129T160000
DTSTAMP:20180225T045658
CREATED:20180115T052321Z
LAST-MODIFIED:20180115T052321Z
UID:19036-1517216400-1517241600@muirden.sa.edu.au
SUMMARY:Day 1 Term 1 2018
DESCRIPTION:First Day of School  \n\nYear 11 Orientation Day\nYear 12 First day of classes\n\n
URL:https://muirden.sa.edu.au/event/day-1-term-1-2018/
END:VEVENT
BEGIN:VEVENT
DTSTART;TZID=UTC+10.5:20180201T180000
DTEND;TZID=UTC+10.5:20180201T193000
DTSTAMP:20180225T045658
CREATED:20180115T232452Z
LAST-MODIFIED:20180201T010208Z
UID:19054-1517508000-1517513400@muirden.sa.edu.au
SUMMARY:Parent Information Night
DESCRIPTION:All parents are welcome to attend. Drinks and Nibbles provided \n
URL:https://muirden.sa.edu.au/event/parent-information-night/
END:VEVENT
BEGIN:VEVENT
DTSTART;TZID=UTC+10.5:20180205T090000
DTEND;TZID=UTC+10.5:20180205T133000
DTSTAMP:20180225T045658
CREATED:20180115T232338Z
LAST-MODIFIED:20180115T232347Z
UID:19051-1517821200-1517837400@muirden.sa.edu.au
SUMMARY:Stage 2 Orientation Day
DESCRIPTION:Meet at the College before 9am to leave for the  Uni SA West Campus. \n
URL:https://muirden.sa.edu.au/event/stage-2-orientation-day/
END:VEVENT
BEGIN:VEVENT
DTSTART;TZID=UTC+10.5:20180215T133000
DTEND;TZID=UTC+10.5:20180215T140000
DTSTAMP:20180225T045658
CREATED:20180115T232618Z
LAST-MODIFIED:20180115T232638Z
UID:19056-1518701400-1518703200@muirden.sa.edu.au
SUMMARY:Student Sausage Sizzle or Icy Pole Freeze
DESCRIPTION:Weather to decide the theme of the event. \nAll students are welcome on the balcony at  lunch time for this social event. \n
URL:https://muirden.sa.edu.au/event/student-sausage-sizzle-or-icy-pole-freeze/
END:VEVENT
END:VCALENDAR